BEGIN:VCALENDAR
VERSION:2.0
PRODID:-//Kryptonite Kollectibles - ECPv6.6.4.2//NONSGML v1.0//EN
CALSCALE:GREGORIAN
METHOD:PUBLISH
X-ORIGINAL-URL:http://articles.kryptonitekollectibles.net
X-WR-CALDESC:Events for Kryptonite Kollectibles
REFRESH-INTERVAL;VALUE=DURATION:PT1H
X-Robots-Tag:noindex
X-PUBLISHED-TTL:PT1H
BEGIN:VTIMEZONE
TZID:America/Chicago
BEGIN:DAYLIGHT
TZOFFSETFROM:-0600
TZOFFSETTO:-0500
TZNAME:CDT
DTSTART:20190310T080000
END:DAYLIGHT
BEGIN:STANDARD
TZOFFSETFROM:-0500
TZOFFSETTO:-0600
TZNAME:CST
DTSTART:20191103T070000
END:STANDARD
END:VTIMEZONE
BEGIN:VEVENT
DTSTART;TZID=America/Chicago:20190909T173000
DTEND;TZID=America/Chicago:20190909T200000
DTSTAMP:20260420T080708
CREATED:20140728T093425Z
LAST-MODIFIED:20190813T140117Z
UID:65-1568050200-1568059200@articles.kryptonitekollectibles.net
SUMMARY:Warhammer 40k / Warmachine
DESCRIPTION:
URL:http://articles.kryptonitekollectibles.net/event/warhammer-40k/
LOCATION:Kryptonite Kollectibles\, 1441 Plainfield Ave\, Janesville\, WI\, 53545\, United States
CATEGORIES:Warhammer 40k
ATTACH;FMTTYPE=image/jpeg:http://articles.kryptonitekollectibles.net/wp-content/uploads/2014/07/40kwall.jpg
END:VEVENT
BEGIN:VEVENT
DTSTART;TZID=America/Chicago:20190902T173000
DTEND;TZID=America/Chicago:20190902T200000
DTSTAMP:20260420T080708
CREATED:20140728T093523Z
LAST-MODIFIED:20190813T140104Z
UID:67-1567445400-1567454400@articles.kryptonitekollectibles.net
SUMMARY:Warhammer 40k / Warmachine
DESCRIPTION:
URL:http://articles.kryptonitekollectibles.net/event/warhammer-40k-2/
LOCATION:Kryptonite Kollectibles\, 1441 Plainfield Ave\, Janesville\, WI\, 53545\, United States
CATEGORIES:Warhammer 40k
ATTACH;FMTTYPE=image/jpeg:http://articles.kryptonitekollectibles.net/wp-content/uploads/2014/07/40kwall.jpg
END:VEVENT
BEGIN:VEVENT
DTSTART;TZID=America/Chicago:20190826T173000
DTEND;TZID=America/Chicago:20190826T200000
DTSTAMP:20260420T080708
CREATED:20140831T085922Z
LAST-MODIFIED:20190813T140046Z
UID:85-1566840600-1566849600@articles.kryptonitekollectibles.net
SUMMARY:Warhammer 40k / Warmachine
DESCRIPTION:
URL:http://articles.kryptonitekollectibles.net/event/warhammer-40k-3/
LOCATION:Kryptonite Kollectibles\, 1441 Plainfield Ave\, Janesville\, WI\, 53545\, United States
CATEGORIES:Warhammer 40k
ATTACH;FMTTYPE=image/jpeg:http://articles.kryptonitekollectibles.net/wp-content/uploads/2014/07/40kwall.jpg
END:VEVENT
BEGIN:VEVENT
DTSTART;TZID=America/Chicago:20190819T173000
DTEND;TZID=America/Chicago:20190819T200000
DTSTAMP:20260420T080708
CREATED:20140831T090000Z
LAST-MODIFIED:20190813T140033Z
UID:86-1566235800-1566244800@articles.kryptonitekollectibles.net
SUMMARY:Warhammer 40k / Warmachine
DESCRIPTION:
URL:http://articles.kryptonitekollectibles.net/event/warhammer-40k-4/
LOCATION:Kryptonite Kollectibles\, 1441 Plainfield Ave\, Janesville\, WI\, 53545\, United States
CATEGORIES:Warhammer 40k
ATTACH;FMTTYPE=image/jpeg:http://articles.kryptonitekollectibles.net/wp-content/uploads/2014/07/40kwall.jpg
END:VEVENT
BEGIN:VEVENT
DTSTART;TZID=America/Chicago:20190812T173000
DTEND;TZID=America/Chicago:20190812T200000
DTSTAMP:20260420T080708
CREATED:20140831T090107Z
LAST-MODIFIED:20190813T140016Z
UID:87-1565631000-1565640000@articles.kryptonitekollectibles.net
SUMMARY:Warhammer 40k / Warmachine
DESCRIPTION:
URL:http://articles.kryptonitekollectibles.net/event/warhammer-40k-5/
LOCATION:Kryptonite Kollectibles\, 1441 Plainfield Ave\, Janesville\, WI\, 53545\, United States
CATEGORIES:Warhammer 40k
ATTACH;FMTTYPE=image/jpeg:http://articles.kryptonitekollectibles.net/wp-content/uploads/2014/07/40kwall.jpg
END:VEVENT
BEGIN:VEVENT
DTSTART;TZID=America/Chicago:20190805T173000
DTEND;TZID=America/Chicago:20190805T200000
DTSTAMP:20260420T080708
CREATED:20140831T090158Z
LAST-MODIFIED:20190813T135957Z
UID:88-1565026200-1565035200@articles.kryptonitekollectibles.net
SUMMARY:Warhammer 40k / Warmachine
DESCRIPTION:
URL:http://articles.kryptonitekollectibles.net/event/warhammer-40k-6/
LOCATION:Kryptonite Kollectibles\, 1441 Plainfield Ave\, Janesville\, WI\, 53545\, United States
CATEGORIES:Warhammer 40k
ATTACH;FMTTYPE=image/jpeg:http://articles.kryptonitekollectibles.net/wp-content/uploads/2014/07/40kwall.jpg
END:VEVENT
END:VCALENDAR